BEGIN:VCALENDAR
VERSION:2.0
PRODID:-//Old Ox Brewery | Washington DC Brewery in Ashburn, VA - ECPv6.2.9//NONSGML v1.0//EN
CALSCALE:GREGORIAN
METHOD:PUBLISH
X-ORIGINAL-URL:https://www.oldoxbrewery.com
X-WR-CALDESC:Events for Old Ox Brewery | Washington DC Brewery in Ashburn, VA
REFRESH-INTERVAL;VALUE=DURATION:PT1H
X-Robots-Tag:noindex
X-PUBLISHED-TTL:PT1H
BEGIN:VTIMEZONE
TZID:America/New_York
BEGIN:DAYLIGHT
TZOFFSETFROM:-0500
TZOFFSETTO:-0400
TZNAME:EDT
DTSTART:20160313T070000
END:DAYLIGHT
BEGIN:STANDARD
TZOFFSETFROM:-0400
TZOFFSETTO:-0500
TZNAME:EST
DTSTART:20161106T060000
END:STANDARD
END:VTIMEZONE
BEGIN:VEVENT
DTSTART;TZID=America/New_York:20160311T190000
DTEND;TZID=America/New_York:20160311T210000
DTSTAMP:20260420T003958
CREATED:20160225T163542Z
LAST-MODIFIED:20160225T163720Z
UID:10001056-1457722800-1457730000@www.oldoxbrewery.com
SUMMARY:Beer Dinner at 1757 Golf Club
DESCRIPTION:Old Ox Brewery Beer Dinner at 1757 Golf Club\n5 Courses | 5 Beers\n~Very Limited Tickets Available~ \nWhen: Friday\, March 11th at 7 PM\nWhere: 1757 Golf Club\n45120 Waxpool Road\nSterling\, VA 20166 \nMenu \n1st Course: \nBacon White Bean Soup with Crispy Candied Bacon\n~Paired with Alpha Ox~ \n2nd Course: \nBeer Braised Crispy Pork Belly with Daikon Radish Slaw\n~Paired with Golden Ox~ \n3rd Course: \nBaby Spinach Salad with Toasted Pecans\, Goat Cheese\, Mandarin Orange and Thai Citrus Vinaigrette\n~Paired with Kristin’s Envy Imperial IPA~ \n4th Course: \nBlack Pepper Scallop on Potato Pancake with American Caviar\n~Paired with Black Ox~ \n5th Course: \nTriple Chocolate Brownie with Almond Brittle and Cinnamon Cream\n~Paired with Kristin’s Passion Mexican Hot Chocolate Porter~ \nCost: $39 \nTickets are extremely limited. Click here to purchase tickets. \n 
URL:https://www.oldoxbrewery.com/event/beer-dinner-at-1757-golf-club/
LOCATION:1757 Golf Club\, 45120 Waxpool Road\, Sterling\, VA\, 20166\, United States
CATEGORIES:Food,Special Event
GEO:39.0084206;-77.4465393
X-APPLE-STRUCTURED-LOCATION;VALUE=URI;X-ADDRESS=1757 Golf Club 45120 Waxpool Road Sterling VA 20166 United States;X-APPLE-RADIUS=500;X-TITLE=45120 Waxpool Road:geo:-77.4465393,39.0084206
END:VEVENT
END:VCALENDAR