BEGIN:VCALENDAR
VERSION:2.0
PRODID:-//Old Ox Brewery | Washington DC Brewery in Ashburn, VA - ECPv6.2.9//NONSGML v1.0//EN
CALSCALE:GREGORIAN
METHOD:PUBLISH
X-ORIGINAL-URL:https://www.oldoxbrewery.com
X-WR-CALDESC:Events for Old Ox Brewery | Washington DC Brewery in Ashburn, VA
REFRESH-INTERVAL;VALUE=DURATION:PT1H
X-Robots-Tag:noindex
X-PUBLISHED-TTL:PT1H
BEGIN:VTIMEZONE
TZID:America/New_York
BEGIN:DAYLIGHT
TZOFFSETFROM:-0500
TZOFFSETTO:-0400
TZNAME:EDT
DTSTART:20180311T070000
END:DAYLIGHT
BEGIN:STANDARD
TZOFFSETFROM:-0400
TZOFFSETTO:-0500
TZNAME:EST
DTSTART:20181104T060000
END:STANDARD
BEGIN:DAYLIGHT
TZOFFSETFROM:-0500
TZOFFSETTO:-0400
TZNAME:EDT
DTSTART:20190310T070000
END:DAYLIGHT
BEGIN:STANDARD
TZOFFSETFROM:-0400
TZOFFSETTO:-0500
TZNAME:EST
DTSTART:20191103T060000
END:STANDARD
BEGIN:DAYLIGHT
TZOFFSETFROM:-0500
TZOFFSETTO:-0400
TZNAME:EDT
DTSTART:20200308T070000
END:DAYLIGHT
BEGIN:STANDARD
TZOFFSETFROM:-0400
TZOFFSETTO:-0500
TZNAME:EST
DTSTART:20201101T060000
END:STANDARD
END:VTIMEZONE
BEGIN:VEVENT
DTSTART;TZID=America/New_York:20200227T150000
DTEND;TZID=America/New_York:20200227T190000
DTSTAMP:20260423T041916
CREATED:20200211T152120Z
LAST-MODIFIED:20200211T152120Z
UID:10001480-1582815600-1582830000@www.oldoxbrewery.com
SUMMARY:DC101 Thirstday at Old Ox Brewery Middleburg
DESCRIPTION:Come meet Roche On Air and DC101 at Old Ox Brewery Middleburg on February 27th for our FIRST Thirstday live broadcast of 2020! \nThe following beers will be on tap:\n• Kristin’s Passion\n• Hop Camo\n• I am Brut\n• Golden Ox\n• Black Ox\n• Alpha Ox\n• Hoppier Place \nLooking for some yummy bites to pair with your brews?! Old Ox serves up Chili Cheese fries\, burgers\, Bavarian pretzels and so much more! \nCome for the rockin’ tunes and great beer! \nBrought to you by Loudoun County’s #LoCoAleTrail: +30 breweries and +300 beers on tap!
URL:https://www.oldoxbrewery.com/event/dc101-thirstday-at-old-ox-brewery-middleburg/
LOCATION:Middleburg\, 14 S Madison St\, Middleburg\, VA\, 20117\, United States
GEO:38.9684676;-77.7352989
X-APPLE-STRUCTURED-LOCATION;VALUE=URI;X-ADDRESS=Middleburg 14 S Madison St Middleburg VA 20117 United States;X-APPLE-RADIUS=500;X-TITLE=14 S Madison St:geo:-77.7352989,38.9684676
END:VEVENT
BEGIN:VEVENT
DTSTART;TZID=America/New_York:20181103T120000
DTEND;TZID=America/New_York:20181103T190000
DTSTAMP:20260423T041916
CREATED:20181022T194022Z
LAST-MODIFIED:20181022T194022Z
UID:10001273-1541246400-1541271600@www.oldoxbrewery.com
SUMMARY:LoCo Hangar Fest 2018
DESCRIPTION:Fasten your seat belt! Loudoun County breweries have landed at a unique destination for beer lovers…the ProJet Hangar at Leesburg Airport. 25+ breweries\, 50+ beers (in some cases\, the first release of the winter brew) and a chance to meet and chat with local brewery owners and brewers. All you can taste beer for one price\, food for purchase\, music and more. It’s the premier indoor fall beer fest of Northern Virginia! Flight sessions begin at 12:00pm and 4:00 p.m. Get ready for take off … reserve your spot now\, tickets are limited! \nThe breweries of the LoCo Ale Trail have teamed up to brew a limited edition\, one-time release\, small batch of saison for HeroHomes that will be poured exclusively on November 3 and then will be available in brewery tasting rooms throughout Loudoun beginning on Saturday\, November 10. \nCharity: HeroHomes is a 501(c)3 not for profit foundation established to build houses for those who have fought for the preservation of freedom and democracy for others. \nTwo Sessions\n\nNoon to 3:00 p.m.\n4:00 p.m. to 7:00 p.m.\n*Capacity: 500 each session; adults only\n\nTicket Information\n\n$35 in advance\n$40 at the door\nTicket price includes unlimited samples and a commemorative glass. Guests must make a donation to enjoy a 4-oz. pour of the charity beer: all proceeds go to HeroHomes.\n\nFood Vendors\nCheck back for updates on food options! Note\, food costs is not included with price of admission. Current vendors include the following: \n\nTopper’s Kitchen\nFord’s Fish Shack\nPretzels by Nordic Knot
URL:https://www.oldoxbrewery.com/event/loco-hangar-fest-2018/
LOCATION:ProJet Aviation Hangar\, 1001 Sycolin Road\, Leesburg\, VA\, 20175\, United States
CATEGORIES:Festivals
ATTACH;FMTTYPE=image/jpeg:https://www.oldoxbrewery.com/content/uploads/2018/10/43094712_10156928419294574_8934178578711445504_n.jpg
GEO:39.0779878;-77.555404
X-APPLE-STRUCTURED-LOCATION;VALUE=URI;X-ADDRESS=ProJet Aviation Hangar 1001 Sycolin Road Leesburg VA 20175 United States;X-APPLE-RADIUS=500;X-TITLE=1001 Sycolin Road:geo:-77.555404,39.0779878
END:VEVENT
END:VCALENDAR